BEGIN:VCALENDAR
VERSION:2.0
PRODID:-//Brevard Indian River Lagoon Coalition - ECPv6.15.20//NONSGML v1.0//EN
CALSCALE:GREGORIAN
METHOD:PUBLISH
X-ORIGINAL-URL:https://helpthelagoon.org
X-WR-CALDESC:Events for Brevard Indian River Lagoon Coalition
REFRESH-INTERVAL;VALUE=DURATION:PT1H
X-Robots-Tag:noindex
X-PUBLISHED-TTL:PT1H
BEGIN:VTIMEZONE
TZID:America/Halifax
BEGIN:DAYLIGHT
TZOFFSETFROM:-0400
TZOFFSETTO:-0300
TZNAME:ADT
DTSTART:20160313T060000
END:DAYLIGHT
BEGIN:STANDARD
TZOFFSETFROM:-0300
TZOFFSETTO:-0400
TZNAME:AST
DTSTART:20161106T050000
END:STANDARD
BEGIN:DAYLIGHT
TZOFFSETFROM:-0400
TZOFFSETTO:-0300
TZNAME:ADT
DTSTART:20170312T060000
END:DAYLIGHT
BEGIN:STANDARD
TZOFFSETFROM:-0300
TZOFFSETTO:-0400
TZNAME:AST
DTSTART:20171105T050000
END:STANDARD
BEGIN:DAYLIGHT
TZOFFSETFROM:-0400
TZOFFSETTO:-0300
TZNAME:ADT
DTSTART:20180311T060000
END:DAYLIGHT
BEGIN:STANDARD
TZOFFSETFROM:-0300
TZOFFSETTO:-0400
TZNAME:AST
DTSTART:20181104T050000
END:STANDARD
END:VTIMEZONE
BEGIN:VEVENT
DTSTART;TZID=America/Halifax:20171029T090000
DTEND;TZID=America/Halifax:20171029T100000
DTSTAMP:20260419T154716
CREATED:20171011T181737Z
LAST-MODIFIED:20171022T055634Z
UID:797-1509267600-1509271200@helpthelagoon.org
SUMMARY:Hightower Beach Cleanup
DESCRIPTION:The Humanist Community of the Space Coast invites you to help keep Hightower Beach clean. This cleanup takes place every other Sunday from 9 AM until 10 AM. Please contact Mary Froment at mcm.froment@gmail.com for more information.
URL:https://helpthelagoon.org/event/hightower-beach-cleanup-4/
LOCATION:Hightower Beach Park\, 815 Highway A1A\, Satellite Beach\, FL\, 32937\, United States
ATTACH;FMTTYPE=image/jpeg:https://helpthelagoon.org/wp-content/uploads/2017/10/72e6522c48ea63d178f5a24fd26c0c31.jpg
END:VEVENT
BEGIN:VEVENT
DTSTART;TZID=America/Halifax:20171029T090000
DTEND;TZID=America/Halifax:20171029T120000
DTSTAMP:20260419T154716
CREATED:20171022T055633Z
LAST-MODIFIED:20171022T055633Z
UID:945-1509267600-1509278400@helpthelagoon.org
SUMMARY:Howl-O'Clean
DESCRIPTION:Howl-O’Clean\nSun\, Oct 29\, 9am – noon\, meet at Murkshe Park @ 16th St\, Cocoa Beach \nCome out to this family-friendly\, costumes encouraged\, cleanup on Sunday\, October 29 in South Cocoa Beach! There will be goodies for the kids and giveaways for the grown folks! Dress to impress!
URL:https://helpthelagoon.org/event/howl-oclean/
LOCATION:Robert P Murkshe Memorial Park\, 1600 S Atlantic Ave\, Cocoa Beach\, FL 32931\, Cocoa Beach\, FL\, 32931\, United States
ATTACH;FMTTYPE=image/jpeg:https://helpthelagoon.org/wp-content/uploads/2017/10/74e387686136649e0b5f1badc95ed47f.jpg
END:VEVENT
BEGIN:VEVENT
DTSTART;TZID=America/Halifax:20171029T100000
DTEND;TZID=America/Halifax:20171029T150000
DTSTAMP:20260419T154716
CREATED:20171025T062432Z
LAST-MODIFIED:20171029T060418Z
UID:1035-1509271200-1509289200@helpthelagoon.org
SUMMARY:Learn to Surf Picnic & Beach Cleanup
DESCRIPTION:Learn to surf picnic and beach cleanup. Join Surfrider\, Catalyst Surf Shop\, Florida Tech BGSA\, and Melbourne High Surf Team for this fun free event!  Bring a picnic lunch and make a day of it!  After all the storms\, the beach needs your help!  Let’s pick up all the refuse and debris.
URL:https://helpthelagoon.org/event/learn-to-surf-picnic-beach-cleanup/
ATTACH;FMTTYPE=image/jpeg:https://helpthelagoon.org/wp-content/uploads/2017/10/f7d9a9cee4bc801afc3642489a22b693.jpg
END:VEVENT
END:VCALENDAR