BEGIN:VCALENDAR
VERSION:2.0
PRODID:-//Brevard Indian River Lagoon Coalition - ECPv6.15.20//NONSGML v1.0//EN
CALSCALE:GREGORIAN
METHOD:PUBLISH
X-WR-CALNAME:Brevard Indian River Lagoon Coalition
X-ORIGINAL-URL:https://helpthelagoon.org
X-WR-CALDESC:Events for Brevard Indian River Lagoon Coalition
REFRESH-INTERVAL;VALUE=DURATION:PT1H
X-Robots-Tag:noindex
X-PUBLISHED-TTL:PT1H
BEGIN:VTIMEZONE
TZID:America/New_York
BEGIN:DAYLIGHT
TZOFFSETFROM:-0500
TZOFFSETTO:-0400
TZNAME:EDT
DTSTART:20160313T070000
END:DAYLIGHT
BEGIN:STANDARD
TZOFFSETFROM:-0400
TZOFFSETTO:-0500
TZNAME:EST
DTSTART:20161106T060000
END:STANDARD
BEGIN:DAYLIGHT
TZOFFSETFROM:-0500
TZOFFSETTO:-0400
TZNAME:EDT
DTSTART:20170312T070000
END:DAYLIGHT
BEGIN:STANDARD
TZOFFSETFROM:-0400
TZOFFSETTO:-0500
TZNAME:EST
DTSTART:20171105T060000
END:STANDARD
BEGIN:DAYLIGHT
TZOFFSETFROM:-0500
TZOFFSETTO:-0400
TZNAME:EDT
DTSTART:20180311T070000
END:DAYLIGHT
BEGIN:STANDARD
TZOFFSETFROM:-0400
TZOFFSETTO:-0500
TZNAME:EST
DTSTART:20181104T060000
END:STANDARD
END:VTIMEZONE
BEGIN:VEVENT
DTSTART;TZID=America/New_York:20171107T120000
DTEND;TZID=America/New_York:20171107T130000
DTSTAMP:20260421T044031
CREATED:20171025T061442Z
LAST-MODIFIED:20171025T061442Z
UID:1019-1510056000-1510059600@helpthelagoon.org
SUMMARY:Save Our Lagoon Project Plan!
DESCRIPTION:Please join us at MRC’s Ted Moorhead Lagoon House Tuesday\, November 7th\, 2017 at 12 pm\, for an educational lunchtime seminar about Brevard County’s Save Our Lagoon Project Plan\, presented by Terry Casto\, a member of the Citizen Oversight Committee. He will be discussing the threats that the Indian River Lagoon faces and how they are being adressed in regards to the Save Our Lagoon Project Plan. \nWhat is the Save Our Lagoon Project Plan? \nIn order to reduce serious human impacts on the Indian River Lagoon\, such as dense algae blooms and massive fish kills\, Brevard County Citizens were given the option by the Brevard County Commission to vote on a half-cent sales tax dedicated to restoration of the Indian River Lagoon.  Commissioners only agreed to the referendum after seeing the Save Our Indian River Lagoon Plan\, which lays out a detailed\, prioritized plan to reduce Lagoon impacts to sustainable levels.  On November 8\, 2016\, 193\,066 Brevard County voters (62.4%) approved taxing themselves for ten years to fix the Indian River Lagoon.    \nTo find more information about the plan before attending\, visit: http://www.brevardfl.gov/SaveOurLagoon/Home. \nThe event is free and open to the public. Attendees must register. If interested and able\, we ask participants to donate $5 toward our guest speaker series. This educational series is a long-standing and cherished program of the MRC that is supported by volunteers and the community’s charitable giving. All donations are tax-deductible. \nAttendees are encouraged and welcome to bring and enjoy their lunch during the seminar!   \nFor more information on the Marine Resources Council\, please visit SaveTheIRl.org.
URL:https://helpthelagoon.org/event/save-our-lagoon-project-plan/
LOCATION:Ted Moorhead Lagoon House\, 3275 Dixie Highway Northeast\, Palm Bay\, FL\, 32905\, United States
ATTACH;FMTTYPE=image/jpeg:https://helpthelagoon.org/wp-content/uploads/2017/10/b85ff3f51f339a129f7f305578849432.jpg
END:VEVENT
END:VCALENDAR