BEGIN:VCALENDAR
VERSION:2.0
PRODID:-//Brevard Indian River Lagoon Coalition - ECPv6.15.20//NONSGML v1.0//EN
CALSCALE:GREGORIAN
METHOD:PUBLISH
X-ORIGINAL-URL:https://helpthelagoon.org
X-WR-CALDESC:Events for Brevard Indian River Lagoon Coalition
REFRESH-INTERVAL;VALUE=DURATION:PT1H
X-Robots-Tag:noindex
X-PUBLISHED-TTL:PT1H
BEGIN:VTIMEZONE
TZID:America/New_York
BEGIN:DAYLIGHT
TZOFFSETFROM:-0500
TZOFFSETTO:-0400
TZNAME:EDT
DTSTART:20160313T070000
END:DAYLIGHT
BEGIN:STANDARD
TZOFFSETFROM:-0400
TZOFFSETTO:-0500
TZNAME:EST
DTSTART:20161106T060000
END:STANDARD
BEGIN:DAYLIGHT
TZOFFSETFROM:-0500
TZOFFSETTO:-0400
TZNAME:EDT
DTSTART:20170312T070000
END:DAYLIGHT
BEGIN:STANDARD
TZOFFSETFROM:-0400
TZOFFSETTO:-0500
TZNAME:EST
DTSTART:20171105T060000
END:STANDARD
BEGIN:DAYLIGHT
TZOFFSETFROM:-0500
TZOFFSETTO:-0400
TZNAME:EDT
DTSTART:20180311T070000
END:DAYLIGHT
BEGIN:STANDARD
TZOFFSETFROM:-0400
TZOFFSETTO:-0500
TZNAME:EST
DTSTART:20181104T060000
END:STANDARD
END:VTIMEZONE
BEGIN:VEVENT
DTSTART;TZID=America/New_York:20171108T120000
DTEND;TZID=America/New_York:20171108T140000
DTSTAMP:20260419T091929
CREATED:20171105T192146Z
LAST-MODIFIED:20171105T192146Z
UID:1373-1510142400-1510149600@helpthelagoon.org
SUMMARY:Wagner Creek Public Visioning Workshop
DESCRIPTION:Please join The Nature Conservancy for a public design workshop as we develop a community vision to restore the banks of the historic Wagner Creek into a resilient waterway and inviting public space. Lunch will be provided! \nMeet us between the Professional Arts Building and Wagner Creek\, walking distance from the Metrorail’s Civic Center Station.
URL:https://helpthelagoon.org/event/wagner-creek-public-visioning-workshop/
ATTACH;FMTTYPE=image/jpeg:https://helpthelagoon.org/wp-content/uploads/2017/11/f60331b7202d5dee8cbc573114711322.jpg
END:VEVENT
END:VCALENDAR