BEGIN:VCALENDAR
VERSION:2.0
PRODID:-//Brevard Indian River Lagoon Coalition - ECPv6.15.20//NONSGML v1.0//EN
CALSCALE:GREGORIAN
METHOD:PUBLISH
X-ORIGINAL-URL:https://helpthelagoon.org
X-WR-CALDESC:Events for Brevard Indian River Lagoon Coalition
REFRESH-INTERVAL;VALUE=DURATION:PT1H
X-Robots-Tag:noindex
X-PUBLISHED-TTL:PT1H
BEGIN:VTIMEZONE
TZID:America/New_York
BEGIN:DAYLIGHT
TZOFFSETFROM:-0500
TZOFFSETTO:-0400
TZNAME:EDT
DTSTART:20160313T070000
END:DAYLIGHT
BEGIN:STANDARD
TZOFFSETFROM:-0400
TZOFFSETTO:-0500
TZNAME:EST
DTSTART:20161106T060000
END:STANDARD
BEGIN:DAYLIGHT
TZOFFSETFROM:-0500
TZOFFSETTO:-0400
TZNAME:EDT
DTSTART:20170312T070000
END:DAYLIGHT
BEGIN:STANDARD
TZOFFSETFROM:-0400
TZOFFSETTO:-0500
TZNAME:EST
DTSTART:20171105T060000
END:STANDARD
BEGIN:DAYLIGHT
TZOFFSETFROM:-0500
TZOFFSETTO:-0400
TZNAME:EDT
DTSTART:20180311T070000
END:DAYLIGHT
BEGIN:STANDARD
TZOFFSETFROM:-0400
TZOFFSETTO:-0500
TZNAME:EST
DTSTART:20181104T060000
END:STANDARD
END:VTIMEZONE
BEGIN:VEVENT
DTSTART;TZID=America/New_York:20171111T080000
DTEND;TZID=America/New_York:20171111T100000
DTSTAMP:20260419T091926
CREATED:20171022T063046Z
LAST-MODIFIED:20171025T064304Z
UID:955-1510387200-1510394400@helpthelagoon.org
SUMMARY:Rootfire Beach Cleanup Nov 11th
DESCRIPTION:Nov 11th – 8am – 10pm > Rootfire Beach Cleanup with Endless Summer Radio & Endless Summer Tattoo. More info coming soon. Just wanted to get the date out. Someone will WIN 2 VIP Tickets to ROOTFIRE just for helping out. Love it. Stoked. Please invite and SHARE.
URL:https://helpthelagoon.org/event/rootfire-beach-cleanup-nov-11th/
ATTACH;FMTTYPE=image/jpeg:https://helpthelagoon.org/wp-content/uploads/2017/10/55a7d14716aef81fcb57e1e2ce785713.jpg
ORGANIZER;CN="Keep Brevard Beautiful%2C Inc.":MAILTO:kristina.fannin@keepbrevardbeautiful.org
END:VEVENT
BEGIN:VEVENT
DTSTART;TZID=America/New_York:20171111T080000
DTEND;TZID=America/New_York:20171111T180000
DTSTAMP:20260419T091926
CREATED:20171025T060431Z
LAST-MODIFIED:20171025T060431Z
UID:995-1510387200-1510423200@helpthelagoon.org
SUMMARY:Indian River Lagoon Garbage Classic
DESCRIPTION:SAVE THE DATE!\nJoin us on the river for our First Annual Indian River Garbage Classic\, benefiting CCA of the Treasure Coast! Any craft small or large is welcome to join in and make a difference. We’ve got awesome prizes\, raffle items and more! After party & awards immediately following at Riverside Cafe.\nSea Sup Go is offering a huge discount on paddle board rentals if you need something to float on. Click here for more information:\nhttps://www.seasupgo.com/rentals/  \nMore details coming soon!!
URL:https://helpthelagoon.org/event/indian-river-lagoon-garbage-classic/
LOCATION:Walking Tree Brewery\, 3209 Dodger Rd\, Vero Beach\, FL\, 32960\, United States
ATTACH;FMTTYPE=image/jpeg:https://helpthelagoon.org/wp-content/uploads/2017/10/b3a23ff60a687e514c532b33fd9c0f86.jpg
END:VEVENT
BEGIN:VEVENT
DTSTART;TZID=America/New_York:20171111T083000
DTEND;TZID=America/New_York:20171111T120000
DTSTAMP:20260419T091926
CREATED:20171013T171446Z
LAST-MODIFIED:20171025T062312Z
UID:818-1510389000-1510401600@helpthelagoon.org
SUMMARY:Hike the Prairie Lakes WMA
DESCRIPTION:Join us for a 5 mile hike on the back loop of this Wildlife Management Area. The total distance might be slightly more since we can take a couple of short side walks.  Also a bald eagle nest is visible from the main road a short drive farther from the parking area. \nThis is one of the rare\, no-hunting weekends.  \nA daily usage fee of $3 per person or $6 per vehicle is charged by the Florida Wildlife Commission. Carpooling from Brevard is encouraged.\nFurther details to come. Announcing this early so people can put it on their calendar.  RSVPs to open in October.
URL:https://helpthelagoon.org/event/hike-the-prairie-lakes-wma/
ATTACH;FMTTYPE=image/jpeg:https://helpthelagoon.org/wp-content/uploads/2017/10/623b08b31f71d038d06e73afffeaeb1b.jpg
END:VEVENT
BEGIN:VEVENT
DTSTART;TZID=America/New_York:20171111T183000
DTEND;TZID=America/New_York:20171111T213000
DTSTAMP:20260419T091926
CREATED:20171025T061444Z
LAST-MODIFIED:20171025T061444Z
UID:1022-1510425000-1510435800@helpthelagoon.org
SUMMARY:MRC Conservation Awards Dinner & Benefit
DESCRIPTION:MRC Annual Conservation Awards Dinner! \nSaturday November 11\, 2017. 6:30 pm – 9:30 pm \nMarine Resources Council  \nTed Moorhead Lagoon House \n3275 Dixie Highway NE\, Palm Bay\, FL 32905 \n Join the Marine Resources Council for an awards ceremony &charity dinner to raise funds\, to help save the Indian River Lagoon! \nFor more event details and to register please visit https://mrcawards.eventbrite.com. \nMRC Annual Conservation Awards Dinner Experience \nDoors open from 6:15pm – 9:30pm * $75 Limited Early Bird Admission (Price will increase to $100)  \n* $700 VIP Table * $275 Naming Boardwalk VIP Pass \nFeaturing: ComplimentaryFood & Adult Beverage Service (6:15 p.m.– 8 p.m.)\,Live Music\, Silent Auction & Prizes\, Keynote Speaker\, Awards Ceremony\, & More!  \nKeynote Speaker Nancy Higgs: former Brevard County Commissioner and lifetime lagoon advocate\, recently completed the Boston Marathon. She will talk about her lifetime of protecting the lagoon as it relates to her efforts to prepare for the Marathon.  Lagoon restoration will be a marathon and a sprint! Restoring the lagoon\, like running a marathon\, will take dedication\, commitment\, perseverance\, empowerment\, and patience. Our lagoon community must respond to the devastation of our water with the resolve of a Fearless Marathon Runner. (Nancy ran for team 261 Fearless!)  If we can harness the full talent and potential of the lagoon community\, in the long run\, we can achieve a healthy return of our estuary. \nEvent Tickets \nEarly Bird VIP Table $600 (will increase to $700). \nReserve a table of your own for up to 8 total people\, for a festive and memorable night on the lagoon! VIP Table includes all the amenities of General Admittance. \nEarly Bird Naming Boardwalk VIP Pass $225 (will increase to $275). \nBe one of the first supporters to be inscribed on the MRC Naming Boardwalk. VIP Pass includes all the amenities of General Admittance\, featuring: Naming Boardwalk Inscription Space for you (up to 16 spaces)\, Complimentary Food & Adult Beverage Service (6:15p.m.–8 p.m.)\, Live Music\, Silent Auction & Prizes\, Keynote Speaker\, & Awards Ceremony! We are Thrilled to enact this Naming Boardwalk\, so you can dedicate a piece of the boardwalk to loved ones\, a grandparent\, spouse\, child\, grandchild\, or even a furry pet\, specially engraved with name & birth-date. The boardwalk will honor the past\, and carry on the tradition of a community-based commitment to conservation of the lagoon into the future. Space is limited\, so reserve yours today! We will contact you for inscription details. \nEarly Bird General Admittance $75 (will increase to $100). \nFeaturing: Complimentary Food & Beverage Service (7 p.m.–9 p.m.) Live music\, Silent Auction & Prizes\, Keynote Speaker\, Awards Ceremony\, & More! Seating is not assigned and is available in first com first serve basis. If you would like your own table please register for a VIP Table. Complimentary Food & Beverage Service ends at 8 p.m. \nYour support of this event and the Marine Resources Council (MRC) directly funds programs and services for the well-being of the Indian River Lagoon. Your participation makes a great difference. The more community involvement we have\, the louder our voice is! \nMRC Awards Ceremony! \n*Project of the Year Award \n*Stan Blum Award for Conservation \n*Albert Tuttle Award for Outstanding Volunteer Service to the Indian River Lagoon \n*Maggy Bowman Award for Outstanding Service to the Indian River Lagoon by an Elected Official  \n*Paul Kroegal Award for Outstanding Service to the Indian River Lagoon by a Government Employee \nWhat We Do For You & The Lagoon!  \nMonitor Lagoon Water Quality & Heath * Restore Habitats * Educate the Community  \n* Influence Legislative Action & Policy * Focus on Conservation * Since 1983  \nTogether we can bring the lagoon back to a healthy\, productive system!  Thank you for contributing! \nMRC is a 501(c)(3) charitable organization. All donations are tax deductible.  \nA COPY OF THE OFFICIAL REGISTRATION AND FINANCIAL INFORMATION MAY BE OBTAINED FROM THE DIVISION OF CONSUMER SERVICES BY CALLING TOLL-FREE WITHIN THE STATE. REGISTRATION DOES NOT IMPLY ENDORSEMENT\, APPROVAL\, OR RECOMMENDATION BY THE STATE.”  The toll-free number of the department is 1-800-HELP-FLA (435-7352) – calling from within the state of Florida\, or (850) 410-3800 – calling from outside of Florida. The department’s website is http://www.800helpfla.com. [s. 496.412(1)(c)\, F.S.]. \nTo sponsor\, volunteer\, participate\, or for further details\, please contact  \nSteve Sharkey at 321-978-8862 or email SharkeyMRC@gmail.com. \nThank You to our Sponsors\, Donors\, our Board\, Staff\, Volunteers\, & Participants \nfor making this Sucessfull Evening Possible!
URL:https://helpthelagoon.org/event/mrc-conservation-awards-dinner-benefit/
LOCATION:MRC Ted Moorhead Lagoon House\, 3275 Dixie Highway NE\, Palm Bay\, FL\, 32905\, United States
ATTACH;FMTTYPE=image/jpeg:https://helpthelagoon.org/wp-content/uploads/2017/10/c0a5d8c60b613d842785474d5aeaba8c.jpg
END:VEVENT
END:VCALENDAR