BEGIN:VCALENDAR
VERSION:2.0
PRODID:-//Brevard Indian River Lagoon Coalition - ECPv6.15.20//NONSGML v1.0//EN
CALSCALE:GREGORIAN
METHOD:PUBLISH
X-WR-CALNAME:Brevard Indian River Lagoon Coalition
X-ORIGINAL-URL:https://helpthelagoon.org
X-WR-CALDESC:Events for Brevard Indian River Lagoon Coalition
REFRESH-INTERVAL;VALUE=DURATION:PT1H
X-Robots-Tag:noindex
X-PUBLISHED-TTL:PT1H
BEGIN:VTIMEZONE
TZID:America/New_York
BEGIN:DAYLIGHT
TZOFFSETFROM:-0500
TZOFFSETTO:-0400
TZNAME:EDT
DTSTART:20160313T070000
END:DAYLIGHT
BEGIN:STANDARD
TZOFFSETFROM:-0400
TZOFFSETTO:-0500
TZNAME:EST
DTSTART:20161106T060000
END:STANDARD
BEGIN:DAYLIGHT
TZOFFSETFROM:-0500
TZOFFSETTO:-0400
TZNAME:EDT
DTSTART:20170312T070000
END:DAYLIGHT
BEGIN:STANDARD
TZOFFSETFROM:-0400
TZOFFSETTO:-0500
TZNAME:EST
DTSTART:20171105T060000
END:STANDARD
BEGIN:DAYLIGHT
TZOFFSETFROM:-0500
TZOFFSETTO:-0400
TZNAME:EDT
DTSTART:20180311T070000
END:DAYLIGHT
BEGIN:STANDARD
TZOFFSETFROM:-0400
TZOFFSETTO:-0500
TZNAME:EST
DTSTART:20181104T060000
END:STANDARD
END:VTIMEZONE
BEGIN:VEVENT
DTSTART;TZID=America/New_York:20171116T063000
DTEND;TZID=America/New_York:20171116T083000
DTSTAMP:20260419T091823
CREATED:20171029T060418Z
LAST-MODIFIED:20171112T052946Z
UID:1174-1510813800-1510821000@helpthelagoon.org
SUMMARY:Round table discussion of local environmental issues.
DESCRIPTION:Joint meeting with the Partnership for a Sustainable Future and the Sierra Club. This will be a roundtable discussion about current issues facing our area. A good time to bring ideas forward.
URL:https://helpthelagoon.org/event/round-table-discussion-of-local-environmental-issues/
LOCATION:Unitarian Universalist of the Space Coast – Friendship Fellowship at Pineda\, 3115 Friendship Pl\, Rockledge\, FL\, 32955\, United States
ATTACH;FMTTYPE=image/jpeg:https://helpthelagoon.org/wp-content/uploads/2017/11/62387fb7e1c69f687ea1c63127a39c89.jpg
END:VEVENT
BEGIN:VEVENT
DTSTART;TZID=America/New_York:20171116T190000
DTEND;TZID=America/New_York:20171116T210000
DTSTAMP:20260419T091823
CREATED:20171112T052947Z
LAST-MODIFIED:20171112T052947Z
UID:1549-1510858800-1510866000@helpthelagoon.org
SUMMARY:City of Palm Bay Sustainability Board vote
DESCRIPTION:Come out and support the creation of a sustainability board in the city of Palm Bay. This board will help design a road map to assist the city in committing to 100% clean energy. Wear green\, speak or quietly support with your presence (especially if you live in Palm Bay). Help spread the word! Email or call if you can’t attend.
URL:https://helpthelagoon.org/event/city-of-palm-bay-sustainability-board-vote/
LOCATION:City Hall\, City Manager\, 120 Malabar Rd SE\, Palm Bay\, FL\, 32907\, United States
ATTACH;FMTTYPE=image/jpeg:https://helpthelagoon.org/wp-content/uploads/2017/11/a48f55fe4fd82d14ec6a273885a76e5c.jpg
END:VEVENT
END:VCALENDAR