BEGIN:VCALENDAR
VERSION:2.0
PRODID:-//Brevard Indian River Lagoon Coalition - ECPv6.15.20//NONSGML v1.0//EN
CALSCALE:GREGORIAN
METHOD:PUBLISH
X-ORIGINAL-URL:https://helpthelagoon.org
X-WR-CALDESC:Events for Brevard Indian River Lagoon Coalition
REFRESH-INTERVAL;VALUE=DURATION:PT1H
X-Robots-Tag:noindex
X-PUBLISHED-TTL:PT1H
BEGIN:VTIMEZONE
TZID:America/Halifax
BEGIN:DAYLIGHT
TZOFFSETFROM:-0400
TZOFFSETTO:-0300
TZNAME:ADT
DTSTART:20170312T060000
END:DAYLIGHT
BEGIN:STANDARD
TZOFFSETFROM:-0300
TZOFFSETTO:-0400
TZNAME:AST
DTSTART:20171105T050000
END:STANDARD
BEGIN:DAYLIGHT
TZOFFSETFROM:-0400
TZOFFSETTO:-0300
TZNAME:ADT
DTSTART:20180311T060000
END:DAYLIGHT
BEGIN:STANDARD
TZOFFSETFROM:-0300
TZOFFSETTO:-0400
TZNAME:AST
DTSTART:20181104T050000
END:STANDARD
BEGIN:DAYLIGHT
TZOFFSETFROM:-0400
TZOFFSETTO:-0300
TZNAME:ADT
DTSTART:20190310T060000
END:DAYLIGHT
BEGIN:STANDARD
TZOFFSETFROM:-0300
TZOFFSETTO:-0400
TZNAME:AST
DTSTART:20191103T050000
END:STANDARD
END:VTIMEZONE
BEGIN:VEVENT
DTSTART;TZID=America/Halifax:20180324T082000
DTEND;TZID=America/Halifax:20180324T123000
DTSTAMP:20260419T091925
CREATED:20180316T162500Z
LAST-MODIFIED:20180322T165052Z
UID:4753-1521879600-1521894600@helpthelagoon.org
SUMMARY:Hike at Triple N WMA
DESCRIPTION:We will hike the 7+ mile loop trail at Triple N Wildlife Management Area. No hunting is scheduled for this date. This WMA is off of US 192 about 20.2 miles west of the intersection of US 192 and I95. The pace will be easy going. There is a pit toilet at the parking lot. Bring lunch or a heavy snack. We can detour to a picnic table about 3/4 of the way through the hike. This will add a bit to the total miles\, hence the “+” sign. Would like to start walking at 8:30\, which explains the odd 8:20 start time.
URL:https://helpthelagoon.org/event/hike-at-triple-n-wma/
ATTACH;FMTTYPE=image/jpeg:https://helpthelagoon.org/wp-content/uploads/2018/03/0da5694d0c1e12006f111b1d5e45e4ca.jpg
END:VEVENT
BEGIN:VEVENT
DTSTART;TZID=America/Halifax:20180324T100000
DTEND;TZID=America/Halifax:20180324T130000
DTSTAMP:20260419T091925
CREATED:20180314T092606Z
LAST-MODIFIED:20180324T134529Z
UID:4666-1521885600-1521896400@helpthelagoon.org
SUMMARY:Pineda Landing Site Clean Up
DESCRIPTION:On Saturday March 24th\, 2018 we will be conducting a trash clean up at what we call “Pineda Landing” site. This spot is the “rest stop” used by Bow Wave dragon boat camp\, and we want to make sure it’s as clean as possible for all to enjoy during that rest stop. \nIn the past there have been lots of trash to pick up including large items\, so if you have a pick up truck\, please join us so we can haul out all the trash. \nWe will have a limited amount of trash pickers\, garden gloves and 5-gal buckets to use during clean up. \nPlease make sure to:\n— bring garden gloves (to use during trash pick-up)\n— wear clothes and shoes – that you don’t mind getting wet/dirty and are appropriate for the weather that day\n— don’t forget your sunscreen\, hat\, sunglasses\n— we suggest you bring water (and snacks if you think you will get “hangry”)\n— if you have your own “5-gal bucket” to use instead of trash bag please bring as well\n— if you have your own “trash pickers” bring as well \nThis is a family oriented event and you may bring extra hands of any age (adult supervision required).  \nWe do ask everyone to sign in when you arrive and also let us know when you leave\, we encourage the “buddy system”\, and recommend you use safety practices (in particular if on the water wear your safety vest at all times). \nThanks for your participation!\nPaddles Up! \n— Environmental Awareness Committee
URL:https://helpthelagoon.org/event/pineda-landing-site-clean-up/
LOCATION:Heart & Soul Dragonboat Paddlers\, P.O. Box 372577\, Satellite Beach\, FL\, 32937\, United States
ATTACH;FMTTYPE=image/jpeg:https://helpthelagoon.org/wp-content/uploads/2018/03/78cc6d5d2e52fa7b490c63926bf98693.jpg
END:VEVENT
BEGIN:VEVENT
DTSTART;TZID=America/Halifax:20180324T120000
DTEND;TZID=America/Halifax:20180324T150000
DTSTAMP:20260419T091925
CREATED:20180310T151651Z
LAST-MODIFIED:20180324T170555Z
UID:4540-1521892800-1521903600@helpthelagoon.org
SUMMARY:March For Our Lives - Melbourne
DESCRIPTION:SCPA members are encouraged to support Brevard students by attending  “March for Our Lives” in Melbourne on March 24th.  \nRSVP https://www.facebook.com/events/1839660122753502/\nMore info: https://marchforourlives.com/ \nA Mel High student designed this tee for March For Our Lives – Melbourne. $7 from every tee will be donated to the official MFOL group.  https://www.artteesrock.com/products/march-for-our-lives-melbourne-t-shirt?utm_campaign=facebook-5422563497375&utm_medium=shopkey&utm_source=facebook
URL:https://helpthelagoon.org/event/march-for-our-lives-melbourne/
LOCATION:Eau Gallie Causeway\, State Road 518\, Melbourne\, FL\, 32935\, United States
ATTACH;FMTTYPE=image/jpeg:https://helpthelagoon.org/wp-content/uploads/2018/03/a51c6cf1d9725ee7257cd618c54089de.jpg
END:VEVENT
END:VCALENDAR