BEGIN:VCALENDAR
VERSION:2.0
PRODID:-//Brevard Indian River Lagoon Coalition - ECPv6.15.20//NONSGML v1.0//EN
CALSCALE:GREGORIAN
METHOD:PUBLISH
X-ORIGINAL-URL:https://helpthelagoon.org
X-WR-CALDESC:Events for Brevard Indian River Lagoon Coalition
REFRESH-INTERVAL;VALUE=DURATION:PT1H
X-Robots-Tag:noindex
X-PUBLISHED-TTL:PT1H
BEGIN:VTIMEZONE
TZID:America/New_York
BEGIN:DAYLIGHT
TZOFFSETFROM:-0500
TZOFFSETTO:-0400
TZNAME:EDT
DTSTART:20200308T070000
END:DAYLIGHT
BEGIN:STANDARD
TZOFFSETFROM:-0400
TZOFFSETTO:-0500
TZNAME:EST
DTSTART:20201101T060000
END:STANDARD
BEGIN:DAYLIGHT
TZOFFSETFROM:-0500
TZOFFSETTO:-0400
TZNAME:EDT
DTSTART:20210314T070000
END:DAYLIGHT
BEGIN:STANDARD
TZOFFSETFROM:-0400
TZOFFSETTO:-0500
TZNAME:EST
DTSTART:20211107T060000
END:STANDARD
BEGIN:DAYLIGHT
TZOFFSETFROM:-0500
TZOFFSETTO:-0400
TZNAME:EDT
DTSTART:20220313T070000
END:DAYLIGHT
BEGIN:STANDARD
TZOFFSETFROM:-0400
TZOFFSETTO:-0500
TZNAME:EST
DTSTART:20221106T060000
END:STANDARD
END:VTIMEZONE
BEGIN:VEVENT
DTSTART;TZID=America/New_York:20211204T080000
DTEND;TZID=America/New_York:20211204T170000
DTSTAMP:20260422T103733
CREATED:20210914T165421Z
LAST-MODIFIED:20210914T165421Z
UID:14512-1638604800-1638637200@helpthelagoon.org
SUMMARY:Ocean Reef Beach Festival
DESCRIPTION:Continuing our annual tradition\, the Ocean Reef Beach Festival will be returning to Pelican Beach Park on Saturday\, December 4\, 2021\, in Satellite Beach\, FL! Join us to celebrate the ocean lifestyle in a family atmosphere with fun opportunities for all ages. There will be something for the whole beach community\, from educational programs in the clubhouse to a sea turtle maze for the kids. Food vendors will tempt your taste buds while live music entertains. The very best of our local ocean arts community\, local surfboard shapers\, and other vendors help you take care of all your Christmas shopping. Have fun; leave with more knowledge and a new appreciation of our ocean\, reef\, and beach!
URL:https://helpthelagoon.org/event/ocean-reef-beach-festival/
LOCATION:Pelican Beach\, Satellite Beach\, FL\, United States
CATEGORIES:Featured Events
END:VEVENT
END:VCALENDAR