BEGIN:VCALENDAR
VERSION:2.0
PRODID:-//Brevard Indian River Lagoon Coalition - ECPv6.15.20//NONSGML v1.0//EN
CALSCALE:GREGORIAN
METHOD:PUBLISH
X-WR-CALNAME:Brevard Indian River Lagoon Coalition
X-ORIGINAL-URL:https://helpthelagoon.org
X-WR-CALDESC:Events for Brevard Indian River Lagoon Coalition
REFRESH-INTERVAL;VALUE=DURATION:PT1H
X-Robots-Tag:noindex
X-PUBLISHED-TTL:PT1H
BEGIN:VTIMEZONE
TZID:America/New_York
BEGIN:DAYLIGHT
TZOFFSETFROM:-0500
TZOFFSETTO:-0400
TZNAME:EDT
DTSTART:20200308T070000
END:DAYLIGHT
BEGIN:STANDARD
TZOFFSETFROM:-0400
TZOFFSETTO:-0500
TZNAME:EST
DTSTART:20201101T060000
END:STANDARD
BEGIN:DAYLIGHT
TZOFFSETFROM:-0500
TZOFFSETTO:-0400
TZNAME:EDT
DTSTART:20210314T070000
END:DAYLIGHT
BEGIN:STANDARD
TZOFFSETFROM:-0400
TZOFFSETTO:-0500
TZNAME:EST
DTSTART:20211107T060000
END:STANDARD
BEGIN:DAYLIGHT
TZOFFSETFROM:-0500
TZOFFSETTO:-0400
TZNAME:EDT
DTSTART:20220313T070000
END:DAYLIGHT
BEGIN:STANDARD
TZOFFSETFROM:-0400
TZOFFSETTO:-0500
TZNAME:EST
DTSTART:20221106T060000
END:STANDARD
BEGIN:DAYLIGHT
TZOFFSETFROM:-0500
TZOFFSETTO:-0400
TZNAME:EDT
DTSTART:20230312T070000
END:DAYLIGHT
BEGIN:STANDARD
TZOFFSETFROM:-0400
TZOFFSETTO:-0500
TZNAME:EST
DTSTART:20231105T060000
END:STANDARD
BEGIN:DAYLIGHT
TZOFFSETFROM:-0500
TZOFFSETTO:-0400
TZNAME:EDT
DTSTART:20240310T070000
END:DAYLIGHT
BEGIN:STANDARD
TZOFFSETFROM:-0400
TZOFFSETTO:-0500
TZNAME:EST
DTSTART:20241103T060000
END:STANDARD
BEGIN:DAYLIGHT
TZOFFSETFROM:-0500
TZOFFSETTO:-0400
TZNAME:EDT
DTSTART:20250309T070000
END:DAYLIGHT
BEGIN:STANDARD
TZOFFSETFROM:-0400
TZOFFSETTO:-0500
TZNAME:EST
DTSTART:20251102T060000
END:STANDARD
BEGIN:DAYLIGHT
TZOFFSETFROM:-0500
TZOFFSETTO:-0400
TZNAME:EDT
DTSTART:20260308T070000
END:DAYLIGHT
BEGIN:STANDARD
TZOFFSETFROM:-0400
TZOFFSETTO:-0500
TZNAME:EST
DTSTART:20261101T060000
END:STANDARD
BEGIN:DAYLIGHT
TZOFFSETFROM:-0500
TZOFFSETTO:-0400
TZNAME:EDT
DTSTART:20270314T070000
END:DAYLIGHT
BEGIN:STANDARD
TZOFFSETFROM:-0400
TZOFFSETTO:-0500
TZNAME:EST
DTSTART:20271107T060000
END:STANDARD
END:VTIMEZONE
BEGIN:VEVENT
DTSTART;TZID=America/New_York:20260303T100000
DTEND;TZID=America/New_York:20260303T230000
DTSTAMP:20260424T094630
CREATED:20260302T152018Z
LAST-MODIFIED:20260302T152018Z
UID:16456-1772532000-1772578800@helpthelagoon.org
SUMMARY:Titusville Marina: Installation of Nanobubble Technology
DESCRIPTION:To mark the launch of the small-scale nanobubble technology installation to revitalize water quality in the marina\, the City of Titusville will host a ceremonial media event\, “Flip the Switch from Green to Clean\,” on March 3\, 2026\, at 10:30 a.m. at the Titusville Municipal Marina. \nThe installation is funded through private and business contributions\, including donations from local business owner Laurilee Thompson\, co-owner of Dixie Crossroads Seafood Restaurant and vice-chair of the Titusville Environmental Commission; Parrish Healthcare; Pinnacle; and Robin L. Fisher and Associates\, Inc.; with support provided in partnership with the Economic Development Commission (EDC) of Florida’s Space Coast. The project represents another step in the City’s ongoing efforts to support the long-term health of the Indian River Lagoon (IRL). \nRead more about the project on Titusville.com
URL:https://helpthelagoon.org/event/titusville-marina-installation-of-nanobubble-technology/
CATEGORIES:Featured Events
ATTACH;FMTTYPE=image/png:https://helpthelagoon.org/wp-content/uploads/2026/03/Document.png
END:VEVENT
BEGIN:VEVENT
DTSTART;TZID=America/New_York:20260204T190000
DTEND;TZID=America/New_York:20260204T210000
DTSTAMP:20260424T094630
CREATED:20260107T153842Z
LAST-MODIFIED:20260107T153842Z
UID:16396-1770231600-1770238800@helpthelagoon.org
SUMMARY:Benefit Concert for the Lagoon
DESCRIPTION:The Brevard Indian River Lagoon Coalition is proud to be bringing national recording artists Freebo and Alice Howe to the Schenck Shop Schack for a Benefit Concert for the Lagoon on Wednesday February 4th at 7PM. Proceeds will go to help further the educational programs that have helped the healing of the Indian River Lagoon over the past 9 years. \nGrab your tickets today\nWith the efforts of the SOIRL (Save Our Indian River Lagoon) program and many other organizations\, we are seeing improvements but know we still have a long way to go. \nPlease click the link below to purchase tickets. We have limited seating and expect a sellout. \nAlice Howe & Freebo have undeniable chemistry. Rock bass legend Freebo weaves his fretless stylings into Alice’s soulful\, impeccably-tuned vocals for a harmony-driven performance showcasing two uniquely compelling songwriters. \nBest known for his ten years playing bass with Bonnie Raitt\, Freebo has toured and recorded with some of the greatest artists of his generation\, including John Mayall\, Ringo Starr\, Crosby Stills & Nash\, Maria Muldaur\, Joe Walsh\, and Dr. John. For the past twenty-five years\, he’s been writing\, recording\, and performing his own original music. To hear Alice Howe sing is to be enraptured by the natural\, unaffected beauty of her voice. There’s no artifice\, no histrionics — just honest\, authentic\, emotionally resonant singing in the tradition of the roots music that shaped her. She recently had the honor of being named Best Female Artist at the International Acoustic Music Awards.\nFreebo and Alice have been working as a duo since 2017\, and he produced her latest record Circumstance\, recorded at iconic FAME Studios in Muscle Shoals\, Alabama. Their latest album Alice Howe & Freebo Live is their first release as a duo\, and it debuted as the #1 Most Played Album on the Folk Radio Charts. \n“When these two get together\, prepare yourself for an extraordinary evening of song and smiles\, and maybe a tear or two. Powerful songwriting\, mesmerizing vocals\, outstanding musicianship\, and a palpable camaraderie make for an experience unsurpassed on the contemporary acoustic scene.” – Ron Olesko\, The Folk Music Notebook \nFor more information on what you can do to help the Lagoon\, go to www.HelpTheLagoon.org \nTo join us on February 4\, for the concert\, go here: \nGET TICKETS
URL:https://helpthelagoon.org/event/benefit-concert-for-the-lagoon/
CATEGORIES:Featured Events
ATTACH;FMTTYPE=image/jpeg:https://helpthelagoon.org/wp-content/uploads/2026/01/trtKF9xGZYCx16ti0IwC3R6AfuUaNn3a0ETgY5mT2.jpg
END:VEVENT
BEGIN:VEVENT
DTSTART;TZID=America/New_York:20260112T180000
DTEND;TZID=America/New_York:20260112T210000
DTSTAMP:20260424T094630
CREATED:20251119T183050Z
LAST-MODIFIED:20251119T183835Z
UID:16349-1768240800-1768251600@helpthelagoon.org
SUMMARY:County Workshop Meeting - Palm Bay
DESCRIPTION:To get public input on the 2026 SOIRL Renewal. \nPalm Bay City Council Chambers \nPalm Bay City Hall\n120 Malabar Rd SE\, Palm Bay\, FL  32907
URL:https://helpthelagoon.org/event/county-workshop-meeting-2/
CATEGORIES:Featured Events
ATTACH;FMTTYPE=image/jpeg:https://helpthelagoon.org/wp-content/uploads/2021/12/Brevard-County-Logo-square.jpg
END:VEVENT
BEGIN:VEVENT
DTSTART;TZID=America/New_York:20260105T180000
DTEND;TZID=America/New_York:20260105T210000
DTSTAMP:20260424T094630
CREATED:20251119T182841Z
LAST-MODIFIED:20251119T183807Z
UID:16348-1767636000-1767646800@helpthelagoon.org
SUMMARY:County Workshop Meeting - Titusville
DESCRIPTION:To get public input on 2026 SOIRL Renewal. \n  \nTitusville City Council Chambers \nTitusville City Hall\n555 S Washington Ave\, Titusville\, FL 32907
URL:https://helpthelagoon.org/event/county-workshop-meeting/
CATEGORIES:Featured Events
ATTACH;FMTTYPE=image/jpeg:https://helpthelagoon.org/wp-content/uploads/2021/12/Brevard-County-Logo-square.jpg
END:VEVENT
BEGIN:VEVENT
DTSTART;TZID=America/New_York:20251122T090000
DTEND;TZID=America/New_York:20251122T120000
DTSTAMP:20260424T094630
CREATED:20251119T160434Z
LAST-MODIFIED:20251119T160434Z
UID:16346-1763802000-1763812800@helpthelagoon.org
SUMMARY:Sebastian Mangrove Workshop
DESCRIPTION:ABOUT\n\nAbout the event\n\nMarine Resources Council runs one of the largest licensed mangrove nursery in the state of Florida. Thier Sebastian property is host to a large nursery with ~9000 plants. This nursery provides red\, white\, and black mangroves that are used for restoration projects across the state.  \n\n\n\nWhat will volunteers do?\n\nAt mangrove workshops\, volunteers help with nursery maintenance while learning about mangrove care and restoration projects. Task generally include potting\, re-potting\, weeding\, and watering plants. Additional activities of trail maintenance and invasive species removal may be possible depending on need. \n\n\n\nWhat will volunteers need to bring or wear?\n\nVolunteers should be prepared to be in the Florida heat and humidity. Hats\, water\, sunscreen (or UPF clothing)\, and close-toed are required. Gloves\, shovels\, and kneepads are available but feel free to bring your own from home! There is NO bathroom or water fountain available on site\, so please be prepared! \n\n9140 86th Ave\, Vero Beach\, FL\, USA\n\n\nWhat should volunteers know about the location?\n\nPlease park in the grass on the right side of the driveway across from the greenhouse. Please do not pull up to the greenhouse or park at the care taker’s residence. \n\nMore Info
URL:https://helpthelagoon.org/event/sebastian-mangrove-workshop/
CATEGORIES:Featured Events
ATTACH;FMTTYPE=image/png:https://helpthelagoon.org/wp-content/uploads/2025/11/p_1753979195886.png
END:VEVENT
BEGIN:VEVENT
DTSTART;TZID=America/New_York:20251002T173000
DTEND;TZID=America/New_York:20251002T200000
DTSTAMP:20260424T094630
CREATED:20250520T145035Z
LAST-MODIFIED:20250822T123534Z
UID:16190-1759426200-1759435200@helpthelagoon.org
SUMMARY:OUR LAGOON. OUR LEGACY.
DESCRIPTION:OCTOBER 2 | Dixie Crossroads | Titusville \nCelebrate the Traditions of Fishing and the Projects that Benefit the Wild Inhabitants of our Lagoon. \nHear about the projects and the progress being made to improve the Lagoon. \nAsk your questions and learn about the restoration from the fishing perspective. Has fishing improved or declined in the Brevard County portion of the Indian River Lagoon since the restoration effort started in 2016? What more is needed to restore fishing to a sustainable level? \nJoin us for food and music and Straight Talk from experts. \nSpeakers\nChris Peterson serves as CEO of Hell’s Bay Boatworks\, a leading supplier of flatwater skiffs that is located in Titusville.  He is an ardent supporter of marine conservation   An active fisherman\, Chris serves on the St. Johns River Water Management District Board of Governors and is active with the Captains for Clean Water organization. \nDr. Aaron Adams is the Director of Science and Conservation at the Bonefish & Tarpon Trust and Senior Scientist at Harbor Branch Oceanographic Institute.  He serves as a member on the Save Our Indian River Lagoon Citizen Oversight Committee which oversees lagoon restoration in Brevard County. \nJon Cave is an author\, photographer and lecturer plus a USCG licensed guide.  He has been a professional fly casting and fly tying instructor for more than 25 years.  He is the founder of the longest established flyfishing school in the South.  His credentials include a M.S. Degree in Natural Resources with a special concentration on fisheries. \nThese speakers have been asked to share their observations and opinions regarding the restoration of the Indian River lagoon and other Florida water bodies\, specifically the impact on fishing.  Following the presentations\, the speakers will serve as a panel to answer questions from the audience. \n SCHEDULE (tentative/subject to change): \nPaul & Kay Garfinkel\n5:30 pm                      Buffet & Musical Kick Off by Paul & Kay Garfinkel of the Ashley Gang\n6:15 pm                       Special Guest Introductions & Sponsor Acknowledgements\n6:20 pm                      Program: Celebrating Fishing & Lagoon Restoration** \nVisit Exhibitors                          5:30–7:00 pm \n*Reserved Seats will be held until 10 minutes before start of event. Please plan to arrive early.\n      Buffet provided by Dixie Crossroads \n \n\nKEEP WATCHING HERE \nWe hope to see you in the audience on October 2. Lend your voice to the discussions about stewardship and education. \nA Healthy Lagoon Benefits us all – especially our Friends with Fins. This is a FREE EVENT. Seating is limited.   \nSponsor our efforts to ensure our priceless Lagoon is restored and preserved for this generation and generations yet to be born. Loving & Living the Lagoon Life\, as so many of us do\, this is your opportunity to contribute to bringing this message to new audiences. \n YOUR SUPPORT MATTERS\nHelp us keep reaching out to tell the Lagoon story. \n\n\n\n\n\n\n\n\n\n\n\n\n\n\n\n\n\n\n\n\n 
URL:https://helpthelagoon.org/event/our-lagoon-our-legacy/
LOCATION:Dixie Crossroads\, 1475 Garden Street\, Titusville\, FL\, 32796\, United States
CATEGORIES:Featured Events
ATTACH;FMTTYPE=application/pdf:https://helpthelagoon.org/wp-content/uploads/2025/05/038lgn_WB_1200x630.pdf
END:VEVENT
BEGIN:VEVENT
DTSTART;TZID=America/New_York:20250404T173000
DTEND;TZID=America/New_York:20250404T203000
DTSTAMP:20260424T094630
CREATED:20250130T202913Z
LAST-MODIFIED:20250314T153749Z
UID:16062-1743787800-1743798600@helpthelagoon.org
SUMMARY:It’s FIRST FRIDAY in the Eau Gallie Arts District.
DESCRIPTION:JOIN US ON April 4. It’s FIRST FRIDAY in the Eau Gallie Arts District.\nThis special event is a tribute to our Indian River Lagoon\, so important to our quality of life and our economic impact as a region.  The galleries have Lagoon-focused surprises planned. \nDon’t miss the special Lagoon-focused event\, Just Another Fish On The Wall\, at Fifth Avenue Art Gallery. \nOn this special night\, from 5:30-8:30p\, Eau Gallie Square will be filled with exhibitors and voices speaking for the Lagoon—and musicians playing from the stage. \nHere’s the schedule of activities in Eau Galle Square: \n5:30 pm – The Lagoon Is A Work of Art: Opening remarks \n5:40 pm – Music: Char Good \n6:30 pm – The Lagoon Is A Work of Art: Guest Speaker \n6:40 pm – Music: Gary Lazer Eyes \n5:30 – 8:00 pm – Visit exhibitors in the Square \nLoving the Lagoon Life as so many of you do\, you’ll want to participate in this event that will help bring Indian River Lagoon education to new audiences.  Special events like these are part of our ongoing efforts to ensure people of Brevard County understand the true value of our priceless Lagoon. Consider supporting the efforts in restoration and preservation being carried on across the community. The Save Our Indian River Lagoon Program recently celebrated the completion of 100 Projects on a long list of lagoon-positive\, science-based efforts netting progress. Sponsorship Opportunities available. \n \n \nJoin the fun on April 4th\, see the art\, hear the speakers and enjoy the music.\nBe part of it all\, as everyone matters. It takes all of us. It takes each of us. See you in The Square?
URL:https://helpthelagoon.org/event/its-first-friday-in-the-eau-gallie-arts-district/
LOCATION:Eau Gallie Art District\, 1463 Highland Ave\, Melbourne\, FL\, 32935\, United States
CATEGORIES:Featured Events
ATTACH;FMTTYPE=image/png:https://helpthelagoon.org/wp-content/uploads/2025/01/CTL_FB_Post.png
END:VEVENT
BEGIN:VEVENT
DTSTART;TZID=America/New_York:20250215T100000
DTEND;TZID=America/New_York:20250215T160000
DTSTAMP:20260424T094630
CREATED:20250204T142648Z
LAST-MODIFIED:20250204T142648Z
UID:16075-1739613600-1739635200@helpthelagoon.org
SUMMARY:Ocean Treasures Festival
DESCRIPTION:Brevard Indian River Lagoon Coalition (BIRLC) will participate in the Barrier Island Center’s 11th Annual Ocean Treasures Festival on Saturday\, February 15th\, 2025\, from 10 AM to 4 PM. The festival is free to attend and offers beachcombing and marine life talks all day\, guided walks\, sharing table\, crafting demos by local artists\, educational displays\, make-n-take craft table\, ocean inspired art for sale\, art raffle to benefit Sea Turtle Conservancy\, a judged beachcombing competition\, treasure hunt\, food trucks\, and more! \nBe sure to find BIRLC among the special exhibitors at the event. \nOf special note\, beachcombing expert and coauthor of Sea-Beans From the Tropics\, Ed Perry IV\, will be onsite to identify your cabinet curiosities. Be sure to enter all of your favorite beach finds into our friendly competition! Categories include most interesting plastic\, smallest shell\, coolest driftwood\, most beautiful shell\, largest sea heart\, most unusual sea glass\, reused/repurposed/upcycled\, and most unusual pick of the show.Enjoy a challenge and glass fishing floats? \nNew this year\, Tuck Mallory\, avid glass fishing float collector featured on Antiques Roadshow\, has donated 15 authentic Japanese glass rolling pin floats which will be sanctuary treasure hunt prizes! Additional floats will be raffled off during Tuck’s talk at noon. \nSo come enjoy the day at the beach enjoying the Ocean’s many treasures! \n  \nThe Brevard County Environmentally Endangered Lands Program’s Barrier Island Center is located at 8385 S. Highway A1A Melbourne Beach\, approximately 2.5 miles North of Sebastian Inlet. For more info please call: (321) 723-3556. \n  \n 
URL:https://helpthelagoon.org/event/ocean-treasures-festival/
LOCATION:Brevard County Barrier Island Center\, 8385 S. Highway A1A\, Melbourne Beach\, FL\, 32951\, United States
CATEGORIES:Featured Events
ATTACH;FMTTYPE=image/jpeg:https://helpthelagoon.org/wp-content/uploads/2025/02/thumbnail_image002-2.jpg
END:VEVENT
BEGIN:VEVENT
DTSTART;TZID=America/New_York:20211204T080000
DTEND;TZID=America/New_York:20211204T170000
DTSTAMP:20260424T094630
CREATED:20210914T165421Z
LAST-MODIFIED:20210914T165421Z
UID:14512-1638604800-1638637200@helpthelagoon.org
SUMMARY:Ocean Reef Beach Festival
DESCRIPTION:Continuing our annual tradition\, the Ocean Reef Beach Festival will be returning to Pelican Beach Park on Saturday\, December 4\, 2021\, in Satellite Beach\, FL! Join us to celebrate the ocean lifestyle in a family atmosphere with fun opportunities for all ages. There will be something for the whole beach community\, from educational programs in the clubhouse to a sea turtle maze for the kids. Food vendors will tempt your taste buds while live music entertains. The very best of our local ocean arts community\, local surfboard shapers\, and other vendors help you take care of all your Christmas shopping. Have fun; leave with more knowledge and a new appreciation of our ocean\, reef\, and beach!
URL:https://helpthelagoon.org/event/ocean-reef-beach-festival/
LOCATION:Pelican Beach\, Satellite Beach\, FL\, United States
CATEGORIES:Featured Events
END:VEVENT
BEGIN:VEVENT
DTSTART;TZID=America/New_York:20211021T090000
DTEND;TZID=America/New_York:20211022T170000
DTSTAMP:20260424T094630
CREATED:20210914T164826Z
LAST-MODIFIED:20210914T164904Z
UID:14509-1634806800-1634922000@helpthelagoon.org
SUMMARY:MRC Low Impact Development Conference
DESCRIPTION:MRC Low Impact Development Conference\nOct. 21 & 22\, 2021\n9:00 AM to 5:00 PM\nCenter for Collaboration\nRockledge\, FL\nSales end on Oct 1\, 2021 \n\n\nFees include general admission\, continental breakfast & lunch both days\, with complimentary Happy Hour Reception on Thursday\, Oct. 21\, 2021. This conference is valued at over $600 per attendee. MRC is pleased to offer this opportunity at a discounted price thanks to sponsor support and charitable gifts. For more information on MRC\, please visit SaveTheIRL.org.
URL:https://helpthelagoon.org/event/mrc-low-impact-development-conference/
LOCATION:Center for Collaboration\, 1100 Rockledge Blvd.\, Rockledge\, FL\, 32955\, United States
CATEGORIES:Featured Events
END:VEVENT
END:VCALENDAR